BEGIN:VCALENDAR
VERSION:2.0
PRODID:-//AREQ secteur Beauce-Etchemins - ECPv5.14.0.4//NONSGML v1.0//EN
CALSCALE:GREGORIAN
METHOD:PUBLISH
X-WR-CALNAME:AREQ secteur Beauce-Etchemins
X-ORIGINAL-URL:https://beauce-etchemins.areq.lacsq.org
X-WR-CALDESC:évènements pour AREQ secteur Beauce-Etchemins
BEGIN:VTIMEZONE
TZID:America/New_York
BEGIN:DAYLIGHT
TZOFFSETFROM:-0500
TZOFFSETTO:-0400
TZNAME:EDT
DTSTART:20250309T070000
END:DAYLIGHT
BEGIN:STANDARD
TZOFFSETFROM:-0400
TZOFFSETTO:-0500
TZNAME:EST
DTSTART:20251102T060000
END:STANDARD
END:VTIMEZONE
BEGIN:VEVENT
DTSTART;TZID=America/New_York:20250410T130000
DTEND;TZID=America/New_York:20250410T150000
DTSTAMP:20260422T060147
CREATED:20250128T161603Z
LAST-MODIFIED:20250128T162133Z
UID:8753-1744290000-1744297200@beauce-etchemins.areq.lacsq.org
SUMMARY:Récital « Hibernation »
DESCRIPTION:Récital « Hibernation » \nPianiste : Marc-André Pépin \nChapelle Marie-Fitzbach  \n250 18e Rue Saint-Georges \nJeudi 10 avril 2025 \nAccueil : 13 h \nDébut du concert : 13 h 30 \nDurée du concert : 60 minutes \nVisite libre des salles d’exposition après le concert. \n  \nPrésentation du récital « Hibernation » \nAvec 7 albums de musique originale produits et deux nominations au Gala de l’ADISQ pour l’album instrumental de l’année\, le pianiste et compositeur Marc-André Pépin vient nous offrir un récital de musique néoclassique intitulé    : « Hibernation ». Le titre provient de son plus récent album pour piano composé pendant la pandémie. Cet album fut pour lui une façon de mettre en musique l’espoir et la confiance qu‘il porte en l’humanité dans des temps difficiles. \nLe récital comprendra aussi des pièces des albums précédents ainsi que de nouvelles compositions. D’influence classique\, la musique douce\, calme\, harmonieuse de Marc-André Pépin sera très appréciée par les personnes recherchant une certaine sérénité ou un apaisement dans les temps incertains et confus que nous vivons. C’est un rendez-vous pour tous. \nVous trouverez dans le site web : Sa biographie et ses productions musicales. \nSite web: https://marcandrepepin.com  \nN. B. Pour assister au concert\, il faut être membre de l’AREQ. L’activité est gratuite. \nÀ propos de Marc-André Pépin  \nMarc-André Pépin est pianiste et compositeur. Diplômé de l’université de Montréal\, il a étudié la composition et l’analyse avec André Prévost et Serge Garant. \nSes influences proviennent d’abord de la musique classique et vont de Bach à Schoenberg. Il admire aussi des compositeurs contemporains tels Michel Legrand\, Astor Piazzola\, Ennio Morricone and André Gagnon. \nIl compte sept albums de compositions originales dont six albums pour piano : Chansons sans paroles (2008)\, Rendez-vous (2010)\, Ciels variables (2013)\, Tempus Fugit et Saintes nuits (2018)\, Hibernation (2020) et un album pour orchestre symphonique\, Arômes de jazz (2023). Deux de ses albums ont été mis en nomination dans la catégorie Album instrumental de l’année aux galas de l’ADISQ 2011 et 2018. \n 
URL:https://beauce-etchemins.areq.lacsq.org/event/recital-hibernation/
LOCATION:Centre culturel Marie-Fitzbach\, 250\, 18e Rue\, Saint-Georges\, G5Y 4S9\, Canada
END:VEVENT
END:VCALENDAR