BEGIN:VCALENDAR
VERSION:2.0
PRODID:-//AREQ secteur Beauce-Etchemins - ECPv5.14.0.4//NONSGML v1.0//EN
CALSCALE:GREGORIAN
METHOD:PUBLISH
X-WR-CALNAME:AREQ secteur Beauce-Etchemins
X-ORIGINAL-URL:https://beauce-etchemins.areq.lacsq.org
X-WR-CALDESC:évènements pour AREQ secteur Beauce-Etchemins
BEGIN:VTIMEZONE
TZID:America/New_York
BEGIN:DAYLIGHT
TZOFFSETFROM:-0500
TZOFFSETTO:-0400
TZNAME:EDT
DTSTART:20250309T070000
END:DAYLIGHT
BEGIN:STANDARD
TZOFFSETFROM:-0400
TZOFFSETTO:-0500
TZNAME:EST
DTSTART:20251102T060000
END:STANDARD
END:VTIMEZONE
BEGIN:VEVENT
DTSTART;TZID=America/New_York:20250422T090000
DTEND;TZID=America/New_York:20250422T150000
DTSTAMP:20260422T071958
CREATED:20250320T144916Z
LAST-MODIFIED:20250320T144916Z
UID:8792-1745312400-1745334000@beauce-etchemins.areq.lacsq.org
SUMMARY:Conférence sur le Jour de la Terre
DESCRIPTION:En avant\, pour le Jour de la Terre\nMardi\, 22 avril 2025\nHôtel Québec\, 3115 Avenue des Hôtels\, Québec\, G1W 3Z6 \nÀ l’occasion du Jour de la Terre\, l’AREQ-03 vous invite à assister à deux conférences qui sauront vous intéresser \nInscriptions : 9 heures\n9 h 45 : Mot de bienvenue\nCoupon d’inscription\nJour de la Terre\n22 avril 2025 \nDATE LIMITE D’INSCRIPTION LE 4 AVRIL 2025 \nNom : _____________________________________________________________________Numéro de membre : __________________\nTéléphone : _____________________________________Courriel : ________________________________________________________\nInvité.e : ________________________________________________________________________________________________________\nCoût : membre : 20 $ Invité.e : 40 $\nPour vous inscrire\, téléphonez à Mario Morin\, au 418-390-1655 ou envoyez un courriel\nà mjmorin@hotmail.com \n10 heures : Conférence de madame Johanne Elsener : De l’air pur pour notre santé !\nMédecin vétérinaire de formation\, Johanne Elsener est membre de l’Association québécoise des médecins\npour l’environnement (AQME)\, fondée en 1993. Elle viendra nous parler de la pollution de l’air qui a fait\nles manchettes plusieurs fois au Québec au cours des dernières années : nickel dans la basse-ville de Québec\,\narsenic à Rouyn-Noranda\, particules fines à Arvida\, panache toxique des polluants atmosphériques émis\npar les autoroutes urbaines\, fumée des feux de forêt\, émission des poêles à bois. Personne n’est à l’abri.\nSelon la dernière étude de Santé Canada\, la pollution atmosphérique est responsable de 4 200 décès\nprématurés par année au Québec\, soit l’équivalent de la COVID en 2021. Qui affecte-t-elle? Que cause-t-elle\ncomme pathologie? D’où proviennent les émissions de polluants atmosphériques? Où et à quel moment\nsommes-nous les plus exposés? Cette conférence répond à ces questions. Elle propose aussi des solutions\nindividuelles et collectives en démontrant leur rentabilité économique. Elle décrit l’urgence d’agir\ncollectivement pour que le gouvernement provincial adopte une Politique nationale de l’air tel qu’il s’y était\nengagé en 2012.\n10 h 45 : Pause\n11 h 10 : Échanges\, conclusion et remerciements\n11 h 45 : Dîner sur place\n13 h : Conférence de Serge Lepage : Les changements climatiques\, comment s’y retrouver?\nÀ l’aide d’illustrations\, de graphiques et d’images vidéo\, Serge Lepage explique l’évolution du climat\,\névolution naturelle\, d’une part\, et les changements climatiques causés par les activités humaines\, d’autre\npart. Il répond à des questions que l’on se pose tous : Qu’est-ce que l’effet de serre? Quels sont les facteurs\ndominants qui influencent l’évolution du climat? Quelles sont les conséquences des changements rapides\nqui sont observés depuis plusieurs décennies? Comment s’adapter à de tels changements? Quelles sont les\navancées technologiques en matière d’énergie renouvelable et de lutte aux changements climatiques? Que\ndonnent les actions entreprises par les différentes nations? Que réserve l’avenir aux générations futures?\nQue peuvent faire les citoyens pour aider la situation?\n14 h 30 : Conclusion et remerciements\nDATE LIMITE D’INSCRIPTION LE 4 AVRIL 2025
URL:https://beauce-etchemins.areq.lacsq.org/event/conference-sur-le-jour-de-la-terre/
LOCATION:Hôtel Québec\, 3115\, avenue des Hôtels\, Québec\, Québec\, Canada
END:VEVENT
END:VCALENDAR